BEGIN:VCALENDAR
VERSION:2.0
PRODID:SchoolNow
CALSCALE:GREGORIAN
BEGIN:VEVENT
UID:ead57e94-39b9-11f1-aa22-0affe9e7bdd7
DTSTAMP:20260422T132510Z
SUMMARY:PTA Staff Appreciation Luncheon
URL;VALUE=URI:https://www.fieldlocalschools.org/ses/calendar/8998242/pta-st
 aff-appreciation-luncheon
DTSTART:20260504T144500Z
DTEND:20260504T164500Z
END:VEVENT
END:VCALENDAR
