BEGIN:VCALENDAR
VERSION:2.0
PRODID:SchoolNow
CALSCALE:GREGORIAN
BEGIN:VEVENT
UID:120d60c4-fd62-11f0-9d0a-0a58a9feac02
DTSTAMP:20260422T072009Z
SUMMARY:SUF 2nd Grade Field Trip
URL;VALUE=URI:https://www.fieldlocalschools.org/ses/calendar/8846727/suf-2n
 d-grade-field-trip
DTSTART:20260424T131500Z
DTEND:20260424T174500Z
END:VEVENT
END:VCALENDAR
