BEGIN:VCALENDAR
VERSION:2.0
PRODID:SchoolNow
CALSCALE:GREGORIAN
BEGIN:VEVENT
UID:71ff9fa4-b5c5-11f0-96da-0a58a9feac02
DTSTAMP:20260422T132510Z
SUMMARY:6th Grade Preview Night
URL;VALUE=URI:https://www.fieldlocalschools.org/ses/calendar/8762358/6th-gr
 ade-preview-night
DTSTART:20260219T230000Z
DTEND:20260219T233000Z
END:VEVENT
END:VCALENDAR
