BEGIN:VCALENDAR
VERSION:2.0
PRODID:SchoolNow
CALSCALE:GREGORIAN
BEGIN:VEVENT
UID:b8cab482-8d02-11f0-81b1-0a58a9feac02
DTSTAMP:20260422T132510Z
SUMMARY:SUF 5th Grade Recognition
URL;VALUE=URI:https://www.fieldlocalschools.org/ses/calendar/8596813/suf-5t
 h-grade-recognition
DTSTART:20260601T133000Z
DTEND:20260601T143000Z
END:VEVENT
END:VCALENDAR
