BEGIN:VCALENDAR
VERSION:2.0
PRODID:SchoolNow
CALSCALE:GREGORIAN
BEGIN:VEVENT
UID:bfc26ccc-8ccf-11f0-8359-02419168f40d
DTSTAMP:20260422T132510Z
SUMMARY:SUF 5th Graders Home from Camp (approximate time)
URL;VALUE=URI:https://www.fieldlocalschools.org/ses/calendar/8595356/suf-5t
 h-graders-home-from-camp-approximate-time
DTSTART:20260522T173000Z
DTEND:20260522T174500Z
END:VEVENT
END:VCALENDAR
