BEGIN:VCALENDAR
VERSION:2.0
PRODID:SchoolNow
CALSCALE:GREGORIAN
BEGIN:VEVENT
UID:bfc26bf0-8ccf-11f0-96f1-02419168f40d
DTSTAMP:20260422T132510Z
SUMMARY:SUF 5th Grade Camp
URL;VALUE=URI:https://www.fieldlocalschools.org/ses/calendar/8595355/suf-5t
 h-grade-camp
DTSTART;VALUE=DATE:20260520
DTEND;VALUE=DATE:20260523
END:VEVENT
END:VCALENDAR
