BEGIN:VCALENDAR
VERSION:2.0
PRODID:SchoolNow
CALSCALE:GREGORIAN
BEGIN:VEVENT
UID:bfc26aba-8ccf-11f0-8f6d-02419168f40d
DTSTAMP:20260422T132510Z
SUMMARY:SUF Report cards go home
URL;VALUE=URI:https://www.fieldlocalschools.org/ses/calendar/8595354/suf-re
 port-cards-go-home
DTSTART;VALUE=DATE:20260410
DTEND;VALUE=DATE:20260411
END:VEVENT
END:VCALENDAR
