BEGIN:VCALENDAR
VERSION:2.0
PRODID:SchoolNow
CALSCALE:GREGORIAN
BEGIN:VEVENT
UID:bfc269de-8ccf-11f0-95e4-02419168f40d
DTSTAMP:20260422T072009Z
SUMMARY:SUF Kidscript
URL;VALUE=URI:https://www.fieldlocalschools.org/ses/calendar/8595353/suf-ki
 dscript
DTSTART:20260401T131000Z
DTEND:20260401T141000Z
END:VEVENT
END:VCALENDAR
