BEGIN:VCALENDAR
VERSION:2.0
PRODID:SchoolNow
CALSCALE:GREGORIAN
BEGIN:VEVENT
UID:bfc268f8-8ccf-11f0-8b0a-02419168f40d
DTSTAMP:20260422T132510Z
SUMMARY:SUF Rick Smith Magician-SOARing Falcon Reward
URL;VALUE=URI:https://www.fieldlocalschools.org/ses/calendar/8595352/suf-ri
 ck-smith-magician-soaring-falcon-reward
DTSTART:20260227T190000Z
DTEND:20260227T200000Z
END:VEVENT
END:VCALENDAR
