BEGIN:VCALENDAR
VERSION:2.0
PRODID:SchoolNow
CALSCALE:GREGORIAN
BEGIN:VEVENT
UID:07882582-4bae-11f0-9d51-0294d103e143
DTSTAMP:20260422T132510Z
SUMMARY:SUF Staff vs. 5th Grade Kickball Game
URL;VALUE=URI:https://www.fieldlocalschools.org/ses/calendar/8319802/suf-st
 aff-vs-5th-grade-kickball-game
DTSTART:20260605T133000Z
DTEND:20260605T143000Z
END:VEVENT
END:VCALENDAR
