BEGIN:VCALENDAR
VERSION:2.0
PRODID:SchoolNow
CALSCALE:GREGORIAN
BEGIN:VEVENT
UID:078824a6-4bae-11f0-a27c-0294d103e143
DTSTAMP:20260422T132510Z
SUMMARY:SUF Talent Show
URL;VALUE=URI:https://www.fieldlocalschools.org/ses/calendar/8319801/suf-ta
 lent-show
DTSTART:20260604T131500Z
DTEND:20260604T144500Z
END:VEVENT
END:VCALENDAR
