BEGIN:VCALENDAR
VERSION:2.0
PRODID:SchoolNow
CALSCALE:GREGORIAN
BEGIN:VEVENT
UID:078823ca-4bae-11f0-93d7-0294d103e143
DTSTAMP:20260422T132510Z
SUMMARY:SUF Picnic Lunch
URL;VALUE=URI:https://www.fieldlocalschools.org/ses/calendar/8319800/suf-pi
 cnic-lunch
DTSTART:20260603T150000Z
DTEND:20260603T160000Z
END:VEVENT
END:VCALENDAR
