BEGIN:VCALENDAR
VERSION:2.0
PRODID:SchoolNow
CALSCALE:GREGORIAN
BEGIN:VEVENT
UID:078822e4-4bae-11f0-8835-0294d103e143
DTSTAMP:20260422T132510Z
SUMMARY:SUF Games Day
URL;VALUE=URI:https://www.fieldlocalschools.org/ses/calendar/8319799/suf-ga
 mes-day
DTSTART:20260603T160000Z
DTEND:20260603T190000Z
END:VEVENT
END:VCALENDAR
