BEGIN:VCALENDAR
VERSION:2.0
PRODID:SchoolNow
CALSCALE:GREGORIAN
BEGIN:VEVENT
UID:07882104-4bae-11f0-8f26-0294d103e143
DTSTAMP:20260422T132510Z
SUMMARY:SUF Spring Program
URL;VALUE=URI:https://www.fieldlocalschools.org/ses/calendar/8319797/suf-sp
 ring-program
DTSTART:20260518T220000Z
DTEND:20260518T230000Z
END:VEVENT
END:VCALENDAR
