BEGIN:VCALENDAR
VERSION:2.0
PRODID:SchoolNow
CALSCALE:GREGORIAN
BEGIN:VEVENT
UID:0788201e-4bae-11f0-8261-0294d103e143
DTSTAMP:20260422T132510Z
SUMMARY:SUF Spring Program (Student audience)
URL;VALUE=URI:https://www.fieldlocalschools.org/ses/calendar/8319796/suf-sp
 ring-program-student-audience
DTSTART:20260518T133000Z
DTEND:20260518T141500Z
END:VEVENT
END:VCALENDAR
