BEGIN:VCALENDAR
VERSION:2.0
PRODID:SchoolNow
CALSCALE:GREGORIAN
BEGIN:VEVENT
UID:07881f38-4bae-11f0-a0f7-0294d103e143
DTSTAMP:20260422T132510Z
SUMMARY:PTA Meeting -In Person
URL;VALUE=URI:https://www.fieldlocalschools.org/ses/calendar/8319795/pta-me
 eting-in-person
DTSTART:20260512T194500Z
DTEND:20260512T204500Z
END:VEVENT
END:VCALENDAR
