BEGIN:VCALENDAR
VERSION:2.0
PRODID:SchoolNow
CALSCALE:GREGORIAN
BEGIN:VEVENT
UID:07881e16-4bae-11f0-a84e-0294d103e143
DTSTAMP:20260422T072009Z
SUMMARY:SUF 5th Grade Class Photo
URL;VALUE=URI:https://www.fieldlocalschools.org/ses/calendar/8319794/suf-5t
 h-grade-class-photo
DTSTART:20260421T160000Z
DTEND:20260421T170000Z
END:VEVENT
END:VCALENDAR
