BEGIN:VCALENDAR
VERSION:2.0
PRODID:SchoolNow
CALSCALE:GREGORIAN
BEGIN:VEVENT
UID:07881d26-4bae-11f0-9a75-0294d103e143
DTSTAMP:20260422T132510Z
SUMMARY:SUF PTA Meeting-In person
URL;VALUE=URI:https://www.fieldlocalschools.org/ses/calendar/8319793/suf-pt
 a-meeting-in-person
DTSTART:20260415T200000Z
DTEND:20260415T210000Z
END:VEVENT
END:VCALENDAR
