BEGIN:VCALENDAR
VERSION:2.0
PRODID:SchoolNow
CALSCALE:GREGORIAN
BEGIN:VEVENT
UID:07881bb4-4bae-11f0-ae28-0294d103e143
DTSTAMP:20260422T132510Z
SUMMARY:SUF Mobile Dentist
URL;VALUE=URI:https://www.fieldlocalschools.org/ses/calendar/8319792/suf-mo
 bile-dentist
DTSTART;VALUE=DATE:20260414
DTEND;VALUE=DATE:20260415
END:VEVENT
END:VCALENDAR
