BEGIN:VCALENDAR
VERSION:2.0
PRODID:SchoolNow
CALSCALE:GREGORIAN
BEGIN:VEVENT
UID:07881808-4bae-11f0-b39e-0294d103e143
DTSTAMP:20260422T132510Z
SUMMARY:SUF PTA Meeting
URL;VALUE=URI:https://www.fieldlocalschools.org/ses/calendar/8319788/suf-pt
 a-meeting
DTSTART:20260211T204500Z
DTEND:20260211T214500Z
END:VEVENT
END:VCALENDAR
