BEGIN:VCALENDAR
VERSION:2.0
PRODID:SchoolNow
CALSCALE:GREGORIAN
BEGIN:VEVENT
UID:38593484-47e5-11f0-8dfb-0a58a9feac02
DTSTAMP:20260422T072009Z
SUMMARY:SUF Math OST Grades 3\, 4\, & 5-Part 2
URL;VALUE=URI:https://www.fieldlocalschools.org/ses/calendar/8294596/suf-ma
 th-ost-grades-3-4-5-part-2
DTSTART:20260429T131500Z
DTEND:20260429T150000Z
END:VEVENT
END:VCALENDAR
