BEGIN:VCALENDAR
VERSION:2.0
PRODID:SchoolNow
CALSCALE:GREGORIAN
BEGIN:VEVENT
UID:38593146-47e5-11f0-a5ee-0a58a9feac02
DTSTAMP:20260422T132510Z
SUMMARY:SUF Math OST Grades 3\, 4\, & 5-Part 1
URL;VALUE=URI:https://www.fieldlocalschools.org/ses/calendar/8294595/suf-ma
 th-ost-grades-3-4-5-part-1
DTSTART:20260428T131500Z
DTEND:20260428T150000Z
END:VEVENT
END:VCALENDAR
