BEGIN:VCALENDAR
VERSION:2.0
PRODID:SchoolNow
CALSCALE:GREGORIAN
BEGIN:VEVENT
UID:3b59606a-47b2-11f0-a5a7-0e34f9a9b7bd
DTSTAMP:20260422T072009Z
SUMMARY:SUF Science OST Grade 5 Part 2
URL;VALUE=URI:https://www.fieldlocalschools.org/ses/calendar/8293159/suf-sc
 ience-ost-grade-5-part-2
DTSTART:20260422T131500Z
DTEND:20260422T151500Z
END:VEVENT
END:VCALENDAR
