BEGIN:VCALENDAR
VERSION:2.0
PRODID:SchoolNow
CALSCALE:GREGORIAN
BEGIN:VEVENT
UID:3b595f70-47b2-11f0-b895-0e34f9a9b7bd
DTSTAMP:20260421T130509Z
SUMMARY:SUF Science OST Grade 5 Part 1
URL;VALUE=URI:https://www.fieldlocalschools.org/ses/calendar/8293158/suf-sc
 ience-ost-grade-5-part-1
DTSTART:20260421T131500Z
DTEND:20260421T151500Z
END:VEVENT
END:VCALENDAR
