BEGIN:VCALENDAR
VERSION:2.0
PRODID:SchoolNow
CALSCALE:GREGORIAN
BEGIN:VEVENT
UID:3b595e3a-47b2-11f0-a24e-0e34f9a9b7bd
DTSTAMP:20260422T072009Z
SUMMARY:SUF ELA OST Grades 3\, 4\, & 5 Part 2
URL;VALUE=URI:https://www.fieldlocalschools.org/ses/calendar/8293157/suf-el
 a-ost-grades-3-4-5-part-2
DTSTART:20260409T131500Z
DTEND:20260409T151500Z
END:VEVENT
END:VCALENDAR
