BEGIN:VCALENDAR
VERSION:2.0
PRODID:SchoolNow
CALSCALE:GREGORIAN
BEGIN:VEVENT
UID:3b595b1a-47b2-11f0-bd47-0e34f9a9b7bd
DTSTAMP:20260422T132510Z
SUMMARY:SUF ELA OST Grades 3\, 4\, & 5 Part 1
URL;VALUE=URI:https://www.fieldlocalschools.org/ses/calendar/8293156/suf-el
 a-ost-grades-3-4-5-part-1
DTSTART:20260408T131500Z
DTEND:20260408T151500Z
END:VEVENT
END:VCALENDAR
