BEGIN:VCALENDAR
VERSION:2.0
PRODID:SchoolNow
CALSCALE:GREGORIAN
BEGIN:VEVENT
UID:f294739c-3766-11f1-949a-0a58a9feac02
DTSTAMP:20260423T215058Z
SUMMARY:HS Prom @ St. Nicholas Orthodox Church
URL;VALUE=URI:https://www.fieldlocalschools.org/fhs/calendar/8991099/hs-pro
 m-st-nicholas-orthodox-church
DTSTART:20260516T220000Z
DTEND:20260517T020000Z
END:VEVENT
END:VCALENDAR
