BEGIN:VCALENDAR
VERSION:2.0
PRODID:SchoolNow
CALSCALE:GREGORIAN
BEGIN:VEVENT
UID:f294728e-3766-11f1-9394-0a58a9feac02
DTSTAMP:20260422T092053Z
SUMMARY:HS EOC-Government Exams
URL;VALUE=URI:https://www.fieldlocalschools.org/fhs/calendar/8991098/hs-eoc
 -government-exams
DTSTART;VALUE=DATE:20260422
DTEND;VALUE=DATE:20260423
END:VEVENT
END:VCALENDAR
