BEGIN:VCALENDAR
VERSION:2.0
PRODID:SchoolNow
CALSCALE:GREGORIAN
BEGIN:VEVENT
UID:f2947194-3766-11f1-9043-0a58a9feac02
DTSTAMP:20260423T215058Z
SUMMARY:HS Musical @2:00 p.m.
URL;VALUE=URI:https://www.fieldlocalschools.org/fhs/calendar/8991097/hs-mus
 ical-2-00-p-m
DTSTART;VALUE=DATE:20260503
DTEND;VALUE=DATE:20260504
END:VEVENT
END:VCALENDAR
