BEGIN:VCALENDAR
VERSION:2.0
PRODID:SchoolNow
CALSCALE:GREGORIAN
BEGIN:VEVENT
UID:f294709a-3766-11f1-9f1c-0a58a9feac02
DTSTAMP:20260423T215058Z
SUMMARY:HS EOC-Algebra Exams
URL;VALUE=URI:https://www.fieldlocalschools.org/fhs/calendar/8991096/hs-eoc
 -algebra-exams
DTSTART;VALUE=DATE:20260430
DTEND;VALUE=DATE:20260501
END:VEVENT
END:VCALENDAR
