BEGIN:VCALENDAR
VERSION:2.0
PRODID:SchoolNow
CALSCALE:GREGORIAN
BEGIN:VEVENT
UID:f2946faa-3766-11f1-a8d0-0a58a9feac02
DTSTAMP:20260423T215058Z
SUMMARY:HS EOC-Make-Up
URL;VALUE=URI:https://www.fieldlocalschools.org/fhs/calendar/8991095/hs-eoc
 -make-up
DTSTART;VALUE=DATE:20260506
DTEND;VALUE=DATE:20260507
END:VEVENT
END:VCALENDAR
