BEGIN:VCALENDAR
VERSION:2.0
PRODID:SchoolNow
CALSCALE:GREGORIAN
BEGIN:VEVENT
UID:f2946ec4-3766-11f1-8aa6-0a58a9feac02
DTSTAMP:20260423T215058Z
SUMMARY:Seniors Last Full Day & Senior Picnic
URL;VALUE=URI:https://www.fieldlocalschools.org/fhs/calendar/8991094/senior
 s-last-full-day-senior-picnic
DTSTART;VALUE=DATE:20260522
DTEND;VALUE=DATE:20260523
END:VEVENT
END:VCALENDAR
