BEGIN:VCALENDAR
VERSION:2.0
PRODID:SchoolNow
CALSCALE:GREGORIAN
BEGIN:VEVENT
UID:f2946dca-3766-11f1-b72e-0a58a9feac02
DTSTAMP:20260423T215058Z
SUMMARY:HS Musical @7:00 p.m.
URL;VALUE=URI:https://www.fieldlocalschools.org/fhs/calendar/8991093/hs-mus
 ical-7-00-p-m
DTSTART;VALUE=DATE:20260502
DTEND;VALUE=DATE:20260503
END:VEVENT
END:VCALENDAR
