BEGIN:VCALENDAR
VERSION:2.0
PRODID:SchoolNow
CALSCALE:GREGORIAN
BEGIN:VEVENT
UID:f2946bf4-3766-11f1-8211-0a58a9feac02
DTSTAMP:20260423T215058Z
SUMMARY:Senior/"Walk Down Memory Lane"
URL;VALUE=URI:https://www.fieldlocalschools.org/fhs/calendar/8991091/senior
 -walk-down-memory-lane
DTSTART;VALUE=DATE:20260529
DTEND;VALUE=DATE:20260530
END:VEVENT
END:VCALENDAR
