BEGIN:VCALENDAR
VERSION:2.0
PRODID:SchoolNow
CALSCALE:GREGORIAN
BEGIN:VEVENT
UID:f2946b0e-3766-11f1-9038-0a58a9feac02
DTSTAMP:20260423T215058Z
SUMMARY:Senior Exams Periods (5-8)
URL;VALUE=URI:https://www.fieldlocalschools.org/fhs/calendar/8991090/senior
 -exams-periods-5-8
DTSTART;VALUE=DATE:20260527
DTEND;VALUE=DATE:20260528
END:VEVENT
END:VCALENDAR
