BEGIN:VCALENDAR
VERSION:2.0
PRODID:SchoolNow
CALSCALE:GREGORIAN
BEGIN:VEVENT
UID:f294660e-3766-11f1-af8c-0a58a9feac02
DTSTAMP:20260423T215058Z
SUMMARY:HS Exams Periods (4-6)
URL;VALUE=URI:https://www.fieldlocalschools.org/fhs/calendar/8991085/hs-exa
 ms-periods-4-6
DTSTART;VALUE=DATE:20260604
DTEND;VALUE=DATE:20260605
END:VEVENT
END:VCALENDAR
