BEGIN:VCALENDAR
VERSION:2.0
PRODID:SchoolNow
CALSCALE:GREGORIAN
BEGIN:VEVENT
UID:f294649c-3766-11f1-a3e4-0a58a9feac02
DTSTAMP:20260423T215058Z
SUMMARY:Senior Make-Up Exams
URL;VALUE=URI:https://www.fieldlocalschools.org/fhs/calendar/8991084/senior
 -make-up-exams
DTSTART;VALUE=DATE:20260528
DTEND;VALUE=DATE:20260529
END:VEVENT
END:VCALENDAR
