BEGIN:VCALENDAR
VERSION:2.0
PRODID:SchoolNow
CALSCALE:GREGORIAN
BEGIN:VEVENT
UID:f29463a2-3766-11f1-aa5e-0a58a9feac02
DTSTAMP:20260423T215058Z
SUMMARY:HS EOC-Make-Up
URL;VALUE=URI:https://www.fieldlocalschools.org/fhs/calendar/8991083/hs-eoc
 -make-up
DTSTART;VALUE=DATE:20260501
DTEND;VALUE=DATE:20260502
END:VEVENT
END:VCALENDAR
