BEGIN:VCALENDAR
VERSION:2.0
PRODID:SchoolNow
CALSCALE:GREGORIAN
BEGIN:VEVENT
UID:f29461c2-3766-11f1-a91e-0a58a9feac02
DTSTAMP:20260423T215058Z
SUMMARY:HS Exams Periods (1-3)
URL;VALUE=URI:https://www.fieldlocalschools.org/fhs/calendar/8991081/hs-exa
 ms-periods-1-3
DTSTART;VALUE=DATE:20260603
DTEND;VALUE=DATE:20260604
END:VEVENT
END:VCALENDAR
