BEGIN:VCALENDAR
VERSION:2.0
PRODID:SchoolNow
CALSCALE:GREGORIAN
BEGIN:VEVENT
UID:f29460c8-3766-11f1-91ae-0a58a9feac02
DTSTAMP:20260423T215058Z
SUMMARY:HS None for 21 Field Trip
URL;VALUE=URI:https://www.fieldlocalschools.org/fhs/calendar/8991080/hs-non
 e-for-21-field-trip
DTSTART;VALUE=DATE:20260416
DTEND;VALUE=DATE:20260417
END:VEVENT
END:VCALENDAR
