BEGIN:VCALENDAR
VERSION:2.0
PRODID:SchoolNow
CALSCALE:GREGORIAN
BEGIN:VEVENT
UID:f2945ee8-3766-11f1-a789-0a58a9feac02
DTSTAMP:20260423T215058Z
SUMMARY:Senior Exams Periods (1-4)
URL;VALUE=URI:https://www.fieldlocalschools.org/fhs/calendar/8991079/senior
 -exams-periods-1-4
DTSTART;VALUE=DATE:20260526
DTEND;VALUE=DATE:20260527
END:VEVENT
END:VCALENDAR
