BEGIN:VCALENDAR
VERSION:2.0
PRODID:SchoolNow
CALSCALE:GREGORIAN
BEGIN:VEVENT
UID:f2945dee-3766-11f1-9122-0a58a9feac02
DTSTAMP:20260423T215058Z
SUMMARY:HS EOC-Geometry Exams
URL;VALUE=URI:https://www.fieldlocalschools.org/fhs/calendar/8991078/hs-eoc
 -geometry-exams
DTSTART;VALUE=DATE:20260427
DTEND;VALUE=DATE:20260428
END:VEVENT
END:VCALENDAR
