BEGIN:VCALENDAR
VERSION:2.0
PRODID:SchoolNow
CALSCALE:GREGORIAN
BEGIN:VEVENT
UID:f2945bd2-3766-11f1-b9e6-0a58a9feac02
DTSTAMP:20260423T215058Z
SUMMARY:Senior Rehearsal (Mandatory)
URL;VALUE=URI:https://www.fieldlocalschools.org/fhs/calendar/8991075/senior
 -rehearsal-mandatory
DTSTART:20260529T143000Z
DTEND:20260529T153000Z
END:VEVENT
END:VCALENDAR
