BEGIN:VCALENDAR
VERSION:2.0
PRODID:SchoolNow
CALSCALE:GREGORIAN
BEGIN:VEVENT
UID:f2945a92-3766-11f1-9e99-0a58a9feac02
DTSTAMP:20260422T092053Z
SUMMARY:HS EOC-Make-Up Exams
URL;VALUE=URI:https://www.fieldlocalschools.org/fhs/calendar/8991074/hs-eoc
 -make-up-exams
DTSTART;VALUE=DATE:20260424
DTEND;VALUE=DATE:20260425
END:VEVENT
END:VCALENDAR
