BEGIN:VCALENDAR
VERSION:2.0
PRODID:SchoolNow
CALSCALE:GREGORIAN
BEGIN:VEVENT
UID:f29456f0-3766-11f1-9544-0a58a9feac02
DTSTAMP:20260422T092053Z
SUMMARY:HS EOC-U.S. History Exams
URL;VALUE=URI:https://www.fieldlocalschools.org/fhs/calendar/8991073/hs-eoc
 -u-s-history-exams
DTSTART;VALUE=DATE:20260423
DTEND;VALUE=DATE:20260424
END:VEVENT
END:VCALENDAR
