BEGIN:VCALENDAR
VERSION:2.0
PRODID:SchoolNow
CALSCALE:GREGORIAN
BEGIN:VEVENT
UID:3c07b4a4-fd41-11f0-822e-0a58a9feac02
DTSTAMP:20260423T215058Z
SUMMARY:Freshmen Preview
URL;VALUE=URI:https://www.fieldlocalschools.org/fhs/calendar/8846598/freshm
 en-preview
DTSTART:20260205T230000Z
DTEND:20260206T000000Z
END:VEVENT
END:VCALENDAR
