BEGIN:VCALENDAR
VERSION:2.0
PRODID:SchoolNow
CALSCALE:GREGORIAN
BEGIN:VEVENT
UID:6d156656-ea52-11f0-9107-0a58a9feac02
DTSTAMP:20260424T035548Z
SUMMARY:HS Exam Period 3
URL;VALUE=URI:https://www.fieldlocalschools.org/fhs/calendar/8828828/hs-exa
 m-period-3
DTSTART:20260113T150500Z
DTEND:20260113T160500Z
END:VEVENT
END:VCALENDAR
