BEGIN:VCALENDAR
VERSION:2.0
PRODID:SchoolNow
CALSCALE:GREGORIAN
BEGIN:VEVENT
UID:6d156520-ea52-11f0-9d98-0a58a9feac02
DTSTAMP:20260424T035548Z
SUMMARY:HS Exam Period 4
URL;VALUE=URI:https://www.fieldlocalschools.org/fhs/calendar/8828827/hs-exa
 m-period-4
DTSTART:20260114T125500Z
DTEND:20260114T135500Z
END:VEVENT
END:VCALENDAR
