BEGIN:VCALENDAR
VERSION:2.0
PRODID:SchoolNow
CALSCALE:GREGORIAN
BEGIN:VEVENT
UID:6d156412-ea52-11f0-b06c-0a58a9feac02
DTSTAMP:20260424T035548Z
SUMMARY:HS Exam Period 5
URL;VALUE=URI:https://www.fieldlocalschools.org/fhs/calendar/8828826/hs-exa
 m-period-5
DTSTART:20260114T140000Z
DTEND:20260114T150000Z
END:VEVENT
END:VCALENDAR
