BEGIN:VCALENDAR
VERSION:2.0
PRODID:SchoolNow
CALSCALE:GREGORIAN
BEGIN:VEVENT
UID:6d15630e-ea52-11f0-959b-0a58a9feac02
DTSTAMP:20260424T035548Z
SUMMARY:HS Exam Period 8
URL;VALUE=URI:https://www.fieldlocalschools.org/fhs/calendar/8828825/hs-exa
 m-period-8
DTSTART:20260115T140000Z
DTEND:20260115T150000Z
END:VEVENT
END:VCALENDAR
